BEGIN:VCALENDAR
VERSION:2.0
PRODID:-//Adxstudio Inc.//Adxstudio Portals//EN
BEGIN:VEVENT
UID:db199908-7911-4593-a0cb-791bf9520a48@sacad.sa.gov.au
DTSTART:20121105T190000Z
DTEND:20121105T220000Z
DTSTAMP:20210227T013047Z
SUMMARY:Monday Event
RRULE:FREQ=MONTHLY;BYDAY=MO;BYSETPOS=-1;
BEGIN:VALARM
TRIGGER:-PT15M
ACTION:DISPLAY
DESCRIPTION:Monday Event
END:VALARM
END:VEVENT
END:VCALENDAR
